BEGIN:VCALENDAR
VERSION:2.0
PRODID:-//Ben McKenzie - ECPv4.6.11.1//NONSGML v1.0//EN
CALSCALE:GREGORIAN
METHOD:PUBLISH
X-WR-CALNAME:Ben McKenzie
X-ORIGINAL-URL:http://benmckenzie.com.au
X-WR-CALDESC:Events for Ben McKenzie
BEGIN:VEVENT
DTSTART;TZID=Australia/Melbourne:20180207T190000
DTEND;TZID=Australia/Melbourne:20180207T210000
DTSTAMP:20180224T064104
CREATED:20180131T040434Z
LAST-MODIFIED:20180131T041443Z
UID:7432-1518030000-1518037200@benmckenzie.com.au
SUMMARY:Sci Fight Comedy Debate: Scientists Should Rule the World
DESCRIPTION:Sci Fight is a quarterly science comedy debate held at the wonderful Spotted Mallard\, with your definitely qualified hosts\, Alanta Colley and Tom Lang (citation needed). \nThis round’s topic: ‘Scientists Should Rule the World’. Kings\, generals\, bankers\, priests\, they’ve all had their chance. We need leadership that’s rational\, evidence-based\, and clearly labelled. It’s time the scientists had their chance to ruin things for everyone. It’s time the scientists ruled the world! \nImagine it! Double-blinded democracy. Peer-reviewed policy. Never really knowing if you’re in the control group or not. So civilised! Plus\, scientists have a great track record. As long as you forget that fling with leaded petrol. And the atom bomb. And all that stuff with the rhesus monkeys. \nCast your vote at Sci Fight\, where our caucus of scientists and comedians try to win you over with strange facts\, good comedy\, and no gerrymandering! \nFor the Affirmative: Pam Rana\, Danielle Measday and Adam Knox\nFor the Negative: Ben McKenzie\, Lauren Bok and Toby Halligan \nTweet
URL:http://benmckenzie.com.au/event/sci-fight-comedy-debate-scientists-should-rule-the-world/
LOCATION:314 Sydney Road\, Brunswick\, VIC\, 3056\, Australia
CATEGORIES:Comedy,Science
END:VEVENT
END:VCALENDAR